BEGIN:VCALENDAR
VERSION:2.0
PRODID:-//Royal Torbay Yacht Club - ECPv6.2.9//NONSGML v1.0//EN
CALSCALE:GREGORIAN
METHOD:PUBLISH
X-WR-CALNAME:Royal Torbay Yacht Club
X-ORIGINAL-URL:https://rtyc.org
X-WR-CALDESC:Events for Royal Torbay Yacht Club
REFRESH-INTERVAL;VALUE=DURATION:PT1H
X-Robots-Tag:noindex
X-PUBLISHED-TTL:PT1H
BEGIN:VTIMEZONE
TZID:Europe/London
BEGIN:DAYLIGHT
TZOFFSETFROM:+0000
TZOFFSETTO:+0100
TZNAME:BST
DTSTART:20260329T010000
END:DAYLIGHT
BEGIN:STANDARD
TZOFFSETFROM:+0100
TZOFFSETTO:+0000
TZNAME:GMT
DTSTART:20261025T010000
END:STANDARD
END:VTIMEZONE
BEGIN:VEVENT
DTSTART;TZID=Europe/London:20260610T080000
DTEND;TZID=Europe/London:20260610T170000
DTSTAMP:20260422T033501
CREATED:20260209T093310Z
LAST-MODIFIED:20260209T093310Z
UID:10012976-1781078400-1781110800@rtyc.org
SUMMARY:Wednesday Racing - IRC\, Cruiser\, Sportsboat\, SB20\, PH & Junior Dinghy Class - Early Summer Series
DESCRIPTION:Visit the Club Racing webpage for full details HERE
URL:https://rtyc.org/event/wednesday-racing-irc-cruiser-sportsboat-sb20-ph-junior-dinghy-class-early-summer-series/2026-06-10/
CATEGORIES:Club Racing
END:VEVENT
BEGIN:VEVENT
DTSTART;TZID=Europe/London:20260612T080000
DTEND;TZID=Europe/London:20260612T170000
DTSTAMP:20260422T033501
CREATED:20250904T111312Z
LAST-MODIFIED:20251202T115007Z
UID:10012862-1781251200-1781283600@rtyc.org
SUMMARY:Torbay Invitational Regatta 2026
DESCRIPTION:Official Notice Board\n			\n			\n				\n				\n				\n				\n			\n				\n				\n				\n				\n				\n				\n				Notice of Race\n			\n			\n				\n				\n				\n				\n				\n				Enter Here\n			\n			\n				\n				\n				\n				\n			\n				\n				\n				\n				\n				\n				\n				\n				\n				\n				\n				\n			\n			\n				\n				\n				\n				\n				\n				List of Entries \n			\n				Class Association \n			\n				Parental Declaration \n			\n				Programme of Events\n			\n				Local Accommodation \n			\n			\n				\n				\n				\n				\n			\n				\n				\n				\n				\n				\n				\n				\n				\n				\n				\n				Useful Information\n \nGetting to Royal Torbay Yacht Club \nCar Parking in Torquay \nLocal Services \nTorquay Harbour \nWeather and Tides \nHow to Win in Torbay \nRacing Rules Website \nContact Royal Torbay Yacht Club
URL:https://rtyc.org/event/torbay-invitational-regatta-2026/
CATEGORIES:Championships
END:VEVENT
BEGIN:VEVENT
DTSTART;TZID=Europe/London:20260613T090000
DTEND;TZID=Europe/London:20260613T120000
DTSTAMP:20260422T033501
CREATED:20260331T100154Z
LAST-MODIFIED:20260331T100154Z
UID:10013101-1781341200-1781352000@rtyc.org
SUMMARY:Squadron 13 session
DESCRIPTION:
URL:https://rtyc.org/event/squadron-13-session-2/2026-06-13/
CATEGORIES:Squadron 13
END:VEVENT
BEGIN:VEVENT
DTSTART;TZID=Europe/London:20260614T080000
DTEND;TZID=Europe/London:20260614T170000
DTSTAMP:20260422T033501
CREATED:20260209T094715Z
LAST-MODIFIED:20260209T094715Z
UID:10013023-1781424000-1781456400@rtyc.org
SUMMARY:Sunday Racing Sportsboats - Summer Series
DESCRIPTION:Visit the Club Racing webpage for full details HERE
URL:https://rtyc.org/event/sunday-racing-sportsboats-summer-series/2026-06-14/
CATEGORIES:Club Racing
END:VEVENT
BEGIN:VEVENT
DTSTART;TZID=Europe/London:20260614T080000
DTEND;TZID=Europe/London:20260614T170000
DTSTAMP:20260422T033501
CREATED:20260209T095813Z
LAST-MODIFIED:20260209T095813Z
UID:10013053-1781424000-1781456400@rtyc.org
SUMMARY:Sunday Racing for PY dinghies & Juniors (inc Squadron 13) - Summer Series
DESCRIPTION:Visit the Club Racing webpage for full details HERE
URL:https://rtyc.org/event/sunday-racing-for-py-dinghies-juniors-inc-squadron-13-summer-series/2026-06-14/
CATEGORIES:Club Racing,Squadron 13 Racing
END:VEVENT
BEGIN:VEVENT
DTSTART;TZID=Europe/London:20260614T110000
DTEND;TZID=Europe/London:20260614T170000
DTSTAMP:20260422T033501
CREATED:20260209T094003Z
LAST-MODIFIED:20260209T094003Z
UID:10012996-1781434800-1781456400@rtyc.org
SUMMARY:Sunday Racing - IRC & Cruiser series - Summer Series
DESCRIPTION:Visit the Club Racing webpage for full details HERE
URL:https://rtyc.org/event/sunday-racing-irc-cruiser-series-summer-series/2026-06-14/
CATEGORIES:Club Racing
END:VEVENT
END:VCALENDAR