BEGIN:VCALENDAR
VERSION:2.0
PRODID:-//Royal Torbay Yacht Club - ECPv6.2.9//NONSGML v1.0//EN
CALSCALE:GREGORIAN
METHOD:PUBLISH
X-WR-CALNAME:Royal Torbay Yacht Club
X-ORIGINAL-URL:https://rtyc.org
X-WR-CALDESC:Events for Royal Torbay Yacht Club
REFRESH-INTERVAL;VALUE=DURATION:PT1H
X-Robots-Tag:noindex
X-PUBLISHED-TTL:PT1H
BEGIN:VTIMEZONE
TZID:Europe/London
BEGIN:DAYLIGHT
TZOFFSETFROM:+0000
TZOFFSETTO:+0100
TZNAME:BST
DTSTART:20260329T010000
END:DAYLIGHT
BEGIN:STANDARD
TZOFFSETFROM:+0100
TZOFFSETTO:+0000
TZNAME:GMT
DTSTART:20261025T010000
END:STANDARD
END:VTIMEZONE
BEGIN:VEVENT
DTSTART;TZID=Europe/London:20260602T090000
DTEND;TZID=Europe/London:20260603T163000
DTSTAMP:20260420T074753
CREATED:20251028T093901Z
LAST-MODIFIED:20260323T100340Z
UID:10012872-1780390800-1780504200@rtyc.org
SUMMARY:RYA Powerboat Level 2
DESCRIPTION:Book your tickets by calling the Office on 01803 292006 \n			\n			\n				\n				\n				\n				\n				\n				\n				\n				\n				\n				Provides the skills and background knowledge needed by the competent powerboat driver and is the basis of the International Certificate of Competence. It aims to teach boat handling and seamanship in powerboats. It focuses on low-speed close quarters handling\, man overboard recovery\, an introduction to driving at planing speed\, and collision regulations. \nCourse pre-requisites: None \nCourse duration: 2 days \nMinimum age: 12 years- \nAlthough RYA Minimum age is 12\, the Royal Torbay Yacht Club would recommend you speak to our Training Principal or Chief Instructor before booking this course for anyone under the age of 15. \nTrainee : Instructor ratio: 1:3 \nProvided with the course: Powerboat Handbook\, Powerboat Logbook and light refreshments \nYou will need: Writing materials\, a recent passport photo (for your powerboat licence)\, appropriate clothing\, buoyancy aid or life jacket (will need to conform to standards)(we have limited number to loan so please get in touch if you need one) \, sun-screen\, packed lunch. \nMember Price £175 \nNon Member Price £250 \nTraining courses are subject to last minute cancellation due to weather\, low uptake\, or unforeseen circumstances. If your course is cancelled\, you will be offered an alternative date or full refund. \nPlease read the terms & conditions here \nRefunds cannot be issued less than 14 days before the Training. You cannot reschedule a training session less than 14 days before the event.
URL:https://rtyc.org/event/rya-powerboat-level-2-12/
LOCATION:Royal Torbay Yacht Club\, 12 Beacon Terrace\, Torquay\, TQ1 2BH\,\, United Kingdom
CATEGORIES:Powerboat 2,Training
ATTACH;FMTTYPE=image/png:https://rtyc.org/wp-content/uploads/2023/11/new-RYA-Powerboat-Level-2-Banner-1200-x-300-px.png
GEO:50.458288;-3.5239884
X-APPLE-STRUCTURED-LOCATION;VALUE=URI;X-ADDRESS=Royal Torbay Yacht Club 12 Beacon Terrace Torquay TQ1 2BH United Kingdom;X-APPLE-RADIUS=500;X-TITLE=12 Beacon Terrace:geo:-3.5239884,50.458288
END:VEVENT
BEGIN:VEVENT
DTSTART;TZID=Europe/London:20260603T080000
DTEND;TZID=Europe/London:20260603T170000
DTSTAMP:20260420T074753
CREATED:20260209T093310Z
LAST-MODIFIED:20260209T093310Z
UID:10012975-1780473600-1780506000@rtyc.org
SUMMARY:Wednesday Racing - IRC\, Cruiser\, Sportsboat\, SB20\, PH & Junior Dinghy Class - Early Summer Series
DESCRIPTION:Visit the Club Racing webpage for full details HERE
URL:https://rtyc.org/event/wednesday-racing-irc-cruiser-sportsboat-sb20-ph-junior-dinghy-class-early-summer-series/2026-06-03/
CATEGORIES:Club Racing
END:VEVENT
BEGIN:VEVENT
DTSTART;TZID=Europe/London:20260606T080000
DTEND;TZID=Europe/London:20260606T170000
DTSTAMP:20260420T074753
CREATED:20260209T101257Z
LAST-MODIFIED:20260209T102137Z
UID:10013076-1780732800-1780765200@rtyc.org
SUMMARY:Coastal Series: Dartmouth - Yealm (RDYC) TADCCS 3
DESCRIPTION:Visit the Club Racing webpage for full details HERE
URL:https://rtyc.org/event/coastal-series-dartmouth-yealm-rdyc-tadccs-3/
CATEGORIES:Club Racing
END:VEVENT
BEGIN:VEVENT
DTSTART;TZID=Europe/London:20260606T090000
DTEND;TZID=Europe/London:20260606T120000
DTSTAMP:20260420T074753
CREATED:20260331T100154Z
LAST-MODIFIED:20260331T100154Z
UID:10013100-1780736400-1780747200@rtyc.org
SUMMARY:Squadron 13 session
DESCRIPTION:
URL:https://rtyc.org/event/squadron-13-session-2/2026-06-06/
CATEGORIES:Squadron 13
END:VEVENT
BEGIN:VEVENT
DTSTART;TZID=Europe/London:20260607T080000
DTEND;TZID=Europe/London:20260607T170000
DTSTAMP:20260420T074753
CREATED:20260209T094715Z
LAST-MODIFIED:20260209T094715Z
UID:10013022-1780819200-1780851600@rtyc.org
SUMMARY:Sunday Racing Sportsboats - Summer Series
DESCRIPTION:Visit the Club Racing webpage for full details HERE
URL:https://rtyc.org/event/sunday-racing-sportsboats-summer-series/2026-06-07/
CATEGORIES:Club Racing
END:VEVENT
BEGIN:VEVENT
DTSTART;TZID=Europe/London:20260607T080000
DTEND;TZID=Europe/London:20260607T170000
DTSTAMP:20260420T074753
CREATED:20260209T095813Z
LAST-MODIFIED:20260209T095813Z
UID:10013052-1780819200-1780851600@rtyc.org
SUMMARY:Sunday Racing for PY dinghies & Juniors (inc Squadron 13) - Summer Series
DESCRIPTION:Visit the Club Racing webpage for full details HERE
URL:https://rtyc.org/event/sunday-racing-for-py-dinghies-juniors-inc-squadron-13-summer-series/2026-06-07/
CATEGORIES:Club Racing,Squadron 13 Racing
END:VEVENT
BEGIN:VEVENT
DTSTART;TZID=Europe/London:20260607T080000
DTEND;TZID=Europe/London:20260607T170000
DTSTAMP:20260420T074753
CREATED:20260209T101832Z
LAST-MODIFIED:20260209T102116Z
UID:10013077-1780819200-1780851600@rtyc.org
SUMMARY:Coastal Series: Yealm - Dartmouth (RDYC)
DESCRIPTION:Visit the Club Racing webpage for full details HERE
URL:https://rtyc.org/event/coastal-series-yealm-dartmouth-rdyc-2/
CATEGORIES:Club Racing
END:VEVENT
END:VCALENDAR