BEGIN:VCALENDAR
VERSION:2.0
PRODID:-//Royal Torbay Yacht Club - ECPv6.2.9//NONSGML v1.0//EN
CALSCALE:GREGORIAN
METHOD:PUBLISH
X-WR-CALNAME:Royal Torbay Yacht Club
X-ORIGINAL-URL:https://rtyc.org
X-WR-CALDESC:Events for Royal Torbay Yacht Club
REFRESH-INTERVAL;VALUE=DURATION:PT1H
X-Robots-Tag:noindex
X-PUBLISHED-TTL:PT1H
BEGIN:VTIMEZONE
TZID:Europe/London
BEGIN:DAYLIGHT
TZOFFSETFROM:+0000
TZOFFSETTO:+0100
TZNAME:BST
DTSTART:20240331T010000
END:DAYLIGHT
BEGIN:STANDARD
TZOFFSETFROM:+0100
TZOFFSETTO:+0000
TZNAME:GMT
DTSTART:20241027T010000
END:STANDARD
END:VTIMEZONE
BEGIN:VEVENT
DTSTART;TZID=Europe/London:20241105T181500
DTEND;TZID=Europe/London:20241105T191500
DTSTAMP:20260423T104746
CREATED:20240328T123532Z
LAST-MODIFIED:20240709T074123Z
UID:10012296-1730830500-1730834100@rtyc.org
SUMMARY:Stretch Class
DESCRIPTION:Tuesday at 6:15pm in the Corinthian Room \nOpen to all abilities \nContact Maggie on 07812656070 for more information and to book your space \n 
URL:https://rtyc.org/event/stretch-class/2024-11-05/
CATEGORIES:Social
END:VEVENT
BEGIN:VEVENT
DTSTART;TZID=Europe/London:20241106T200000
DTEND;TZID=Europe/London:20241106T220000
DTSTAMP:20260423T104746
CREATED:20240926T085353Z
LAST-MODIFIED:20241122T125736Z
UID:10012333-1730923200-1730930400@rtyc.org
SUMMARY:Weekly Quiz Night
DESCRIPTION:
URL:https://rtyc.org/event/weekly-quiz-night-2/2024-11-06/
CATEGORIES:Social
ATTACH;FMTTYPE=image/png:https://rtyc.org/wp-content/uploads/2024/09/winter-quiz-featured-image.png
END:VEVENT
BEGIN:VEVENT
DTSTART;TZID=Europe/London:20241107T090000
DTEND;TZID=Europe/London:20241107T094500
DTSTAMP:20260423T104746
CREATED:20240912T090352Z
LAST-MODIFIED:20240912T090353Z
UID:10012264-1730970000-1730972700@rtyc.org
SUMMARY:Core Strength Vinyasa Yoga
DESCRIPTION:Thursday at 9am in the Billiard Room \nSuitable for those more able. \nContact Maggie on 07812656070 for more information and to book your space
URL:https://rtyc.org/event/stretch-core-strength-yoga-class-2/2024-11-07/
CATEGORIES:Social
END:VEVENT
BEGIN:VEVENT
DTSTART;TZID=Europe/London:20241108T180000
DTEND;TZID=Europe/London:20241108T190000
DTSTAMP:20260423T104746
CREATED:20240111T112943Z
LAST-MODIFIED:20240119T123728Z
UID:10011990-1731088800-1731092400@rtyc.org
SUMMARY:Happy Hour
DESCRIPTION:
URL:https://rtyc.org/event/happy-hour/2024-11-08/
CATEGORIES:Social
ATTACH;FMTTYPE=image/jpeg:https://rtyc.org/wp-content/uploads/2024/01/happy-hour-169.jpg
END:VEVENT
BEGIN:VEVENT
DTSTART;TZID=Europe/London:20241109T080000
DTEND;TZID=Europe/London:20241109T170000
DTSTAMP:20260423T104746
CREATED:20240115T094803Z
LAST-MODIFIED:20240115T130637Z
UID:10012129-1731139200-1731171600@rtyc.org
SUMMARY:Winter Saturday Series - PH Dinghy Handicap & Junior Class - 18 Races
DESCRIPTION:To see the full Club Racing Programme\, please click here
URL:https://rtyc.org/event/winter-saturday-series-ph-dinghy-handicap-junior-class-18-races/2024-11-09/
CATEGORIES:Club Racing,Juniors,PY Dinghy
END:VEVENT
BEGIN:VEVENT
DTSTART;TZID=Europe/London:20241109T080000
DTEND;TZID=Europe/London:20241110T170000
DTSTAMP:20260423T104746
CREATED:20240624T083845Z
LAST-MODIFIED:20241114T172841Z
UID:10012323-1731139200-1731258000@rtyc.org
SUMMARY:BUSA Fleet Racing Championship 2024
DESCRIPTION:Race Documents\nEntries & Results\nDocuments & Information\n\n\nNotice of Race\n\nWelcome & Joining Instructions\n\n\nSailing Instructions\nResults\nClass Association\n\n\n\n\n\n\n\n\n  \n\n\n\nProtest Time Limit: (Day/Fleet)\nProtest Time Begins:\nProtest Time Ends:\n\n\n\n\n\n\n\n\n			\n			\n				\n				\n				\n				\n			\n				\n				\n				\n				\n				\n				\n			\n				\n				\n				\n				\n				\n				Travel Information - Road Closure\n			\n			\n				\n				\n				\n				\n			\n				\n				\n				\n				\n				\n				\n				\n				\n				\n				\n				Useful Information\n \nGetting to Royal Torbay Yacht Club \nCar Parking in Torquay \nTorquay Harbour \nWeather and Tides \nLocal Services \nHow to Win in Torbay \nClub Bar \nClub Restaurant \nContact Royal Torbay Yacht Club \nRacing Rules Website  \n \n			\n				\n				\n				\n				\n				\n			\n			\n				\n				\n				\n				\n				\n				\n				\n				\n				\n				Accommodation\nEnglish Riviera Accommodation Search \nImperial Hotel \nHampton by Hilton - Torquay \nChesterfield Guest House  - use the code RTYC15 to receive 15% off  \nEnglish Riviera Camping Site Search \nTreacle Valley Campsite \nCampsites Near Torquay Search \nCampsites.co.uk - Torquay
URL:https://rtyc.org/event/busa-fleet-racing-championship-2024/
CATEGORIES:Championships
END:VEVENT
BEGIN:VEVENT
DTSTART;TZID=Europe/London:20241110T080000
DTEND;TZID=Europe/London:20241110T170000
DTSTAMP:20260423T104746
CREATED:20240112T092438Z
LAST-MODIFIED:20240115T130513Z
UID:10012053-1731225600-1731258000@rtyc.org
SUMMARY:IRC\, Cruisers & Coastal Class - Winter 3 race days
DESCRIPTION:To see the full Club Racing Programme\, please click here
URL:https://rtyc.org/event/irc-cruisers-coastal-class-winter-3-race-days/2024-11-10/
CATEGORIES:Club Racing,Cruising,IRC,RTYC Coastal Class Series,Sportsboats
END:VEVENT
BEGIN:VEVENT
DTSTART;TZID=Europe/London:20241110T080000
DTEND;TZID=Europe/London:20241110T170000
DTSTAMP:20260423T104746
CREATED:20240112T104440Z
LAST-MODIFIED:20240115T130522Z
UID:10012092-1731225600-1731258000@rtyc.org
SUMMARY:Sportsboats - Winter Sunday Series - 16 Races
DESCRIPTION:To see the full Club Racing Programme\, please click here
URL:https://rtyc.org/event/winter-sunday-series-16-races/2024-11-10/
CATEGORIES:Club Racing,Sportsboats
END:VEVENT
END:VCALENDAR