BEGIN:VCALENDAR
VERSION:2.0
PRODID:-//Royal Torbay Yacht Club - ECPv6.2.9//NONSGML v1.0//EN
CALSCALE:GREGORIAN
METHOD:PUBLISH
X-WR-CALNAME:Royal Torbay Yacht Club
X-ORIGINAL-URL:https://rtyc.org
X-WR-CALDESC:Events for Royal Torbay Yacht Club
REFRESH-INTERVAL;VALUE=DURATION:PT1H
X-Robots-Tag:noindex
X-PUBLISHED-TTL:PT1H
BEGIN:VTIMEZONE
TZID:Europe/London
BEGIN:DAYLIGHT
TZOFFSETFROM:+0000
TZOFFSETTO:+0100
TZNAME:BST
DTSTART:20260329T010000
END:DAYLIGHT
BEGIN:STANDARD
TZOFFSETFROM:+0100
TZOFFSETTO:+0000
TZNAME:GMT
DTSTART:20261025T010000
END:STANDARD
END:VTIMEZONE
BEGIN:VEVENT
DTSTART;TZID=Europe/London:20260530T120000
DTEND;TZID=Europe/London:20260530T210000
DTSTAMP:20260424T180724
CREATED:20260421T090757Z
LAST-MODIFIED:20260424T101223Z
UID:10013122-1780142400-1780174800@rtyc.org
SUMMARY:Airshow: BBQ & Live Music
DESCRIPTION:To book tickets\, you can either call the Office on 01803 292006\, at the Club Bar or use the link below to book online. \n			\n			\n				\n				\n				\n				\n			\n				\n				\n				\n				\n				\n				\n				Book Tickets Online
URL:https://rtyc.org/event/airshow-bbq-live-music/
CATEGORIES:Social
ATTACH;FMTTYPE=image/png:https://rtyc.org/wp-content/uploads/2026/04/save-the-date-poster-4.png
END:VEVENT
BEGIN:VEVENT
DTSTART;TZID=Europe/London:20261001T180000
DTEND;TZID=Europe/London:20261001T230000
DTSTAMP:20260424T180724
CREATED:20260122T084223Z
LAST-MODIFIED:20260122T084223Z
UID:10012953-1790877600-1790895600@rtyc.org
SUMMARY:Evening Talk - Cruising Association - Tom Cuncliffe 'Hurricane Force'
DESCRIPTION:More information to follow
URL:https://rtyc.org/event/evening-talk-cruising-association-tom-cuncliffe-hurricane-force/
CATEGORIES:Cruising,Social
END:VEVENT
BEGIN:VEVENT
DTSTART;TZID=Europe/London:20261010T190000
DTEND;TZID=Europe/London:20261010T220000
DTSTAMP:20260424T180724
CREATED:20260413T083036Z
LAST-MODIFIED:20260413T102341Z
UID:10013120-1791658800-1791669600@rtyc.org
SUMMARY:Murder Mystery Event
DESCRIPTION:More information coming soon
URL:https://rtyc.org/event/murder-mystery-event/
CATEGORIES:Social
ATTACH;FMTTYPE=image/png:https://rtyc.org/wp-content/uploads/2026/04/Murder-Mystery-october-2026-featured-image-1200-x-628-px-1.png
END:VEVENT
END:VCALENDAR