BEGIN:VCALENDAR
VERSION:2.0
PRODID:-//Royal Torbay Yacht Club - ECPv6.2.9//NONSGML v1.0//EN
CALSCALE:GREGORIAN
METHOD:PUBLISH
X-WR-CALNAME:Royal Torbay Yacht Club
X-ORIGINAL-URL:https://rtyc.org
X-WR-CALDESC:Events for Royal Torbay Yacht Club
REFRESH-INTERVAL;VALUE=DURATION:PT1H
X-Robots-Tag:noindex
X-PUBLISHED-TTL:PT1H
BEGIN:VTIMEZONE
TZID:Europe/London
BEGIN:DAYLIGHT
TZOFFSETFROM:+0000
TZOFFSETTO:+0100
TZNAME:BST
DTSTART:20240331T010000
END:DAYLIGHT
BEGIN:STANDARD
TZOFFSETFROM:+0100
TZOFFSETTO:+0000
TZNAME:GMT
DTSTART:20241027T010000
END:STANDARD
END:VTIMEZONE
BEGIN:VEVENT
DTSTART;TZID=Europe/London:20240604T181500
DTEND;TZID=Europe/London:20240604T191500
DTSTAMP:20260423T090540
CREATED:20240328T123532Z
LAST-MODIFIED:20240709T074123Z
UID:10012277-1717524900-1717528500@rtyc.org
SUMMARY:Stretch Class
DESCRIPTION:Tuesday at 6:15pm in the Corinthian Room \nOpen to all abilities \nContact Maggie on 07812656070 for more information and to book your space \n 
URL:https://rtyc.org/event/stretch-class/2024-06-04/
CATEGORIES:Social
END:VEVENT
BEGIN:VEVENT
DTSTART;TZID=Europe/London:20240605T200000
DTEND;TZID=Europe/London:20240605T220000
DTSTAMP:20260423T090540
CREATED:20240326T131507Z
LAST-MODIFIED:20240528T111341Z
UID:10012309-1717617600-1717624800@rtyc.org
SUMMARY:Monthly Quiz Night
DESCRIPTION:
URL:https://rtyc.org/event/monthly-quiz/2024-06-05/
CATEGORIES:Social
END:VEVENT
BEGIN:VEVENT
DTSTART;VALUE=DATE:20240606
DTEND;VALUE=DATE:20240607
DTSTAMP:20260423T090540
CREATED:20240522T083446Z
LAST-MODIFIED:20240522T083446Z
UID:10012317-1717632000-1717718399@rtyc.org
SUMMARY:80th D-Day Anniversary
DESCRIPTION:Members are invited for Tea/Coffee and a slice of cake. More details to follow\, however expressions of interest are welcomed by letting the office know.
URL:https://rtyc.org/event/80th-d-day-anniversary/
CATEGORIES:Social
END:VEVENT
BEGIN:VEVENT
DTSTART;TZID=Europe/London:20240606T090000
DTEND;TZID=Europe/London:20240606T094500
DTSTAMP:20260423T090540
CREATED:20240328T120521Z
LAST-MODIFIED:20240402T100249Z
UID:10012245-1717664400-1717667100@rtyc.org
SUMMARY:Stretch\, Core Strength & Yoga Class
DESCRIPTION:Thursday at 9am in the Billiard Room \nSuitable for those more able. \nContact Maggie on 07812656070 for more information and to book your space
URL:https://rtyc.org/event/stretch-core-strength-yoga-class/2024-06-06/
CATEGORIES:Social
END:VEVENT
BEGIN:VEVENT
DTSTART;TZID=Europe/London:20240607T180000
DTEND;TZID=Europe/London:20240607T190000
DTSTAMP:20260423T090540
CREATED:20240111T112943Z
LAST-MODIFIED:20240119T123728Z
UID:10011973-1717783200-1717786800@rtyc.org
SUMMARY:Happy Hour
DESCRIPTION:
URL:https://rtyc.org/event/happy-hour/2024-06-07/
CATEGORIES:Social
ATTACH;FMTTYPE=image/jpeg:https://rtyc.org/wp-content/uploads/2024/01/happy-hour-169.jpg
END:VEVENT
BEGIN:VEVENT
DTSTART;TZID=Europe/London:20240607T200000
DTEND;TZID=Europe/London:20240607T223000
DTSTAMP:20260423T090540
CREATED:20240422T102530Z
LAST-MODIFIED:20240604T111920Z
UID:10012305-1717790400-1717799400@rtyc.org
SUMMARY:Liquid Spirit Jazz Night
DESCRIPTION:Please note this event is not being organised by Royal Torbay Yacht Club. If you wish to book tickets or find out more information please see the poster above.  \n			\n				\n				\n				\n				\n				We are not taking bookings for food\, however\, if you are considering dining with us it would be helpful if you could email admin@rtyc.org to allow us to guage numbers. 
URL:https://rtyc.org/event/liquid-spirit-jazz-night/
CATEGORIES:Social
ATTACH;FMTTYPE=image/png:https://rtyc.org/wp-content/uploads/2024/04/jazz-night-featured-image.png
END:VEVENT
BEGIN:VEVENT
DTSTART;TZID=Europe/London:20240611T181500
DTEND;TZID=Europe/London:20240611T191500
DTSTAMP:20260423T090540
CREATED:20240328T123532Z
LAST-MODIFIED:20240709T074123Z
UID:10012278-1718129700-1718133300@rtyc.org
SUMMARY:Stretch Class
DESCRIPTION:Tuesday at 6:15pm in the Corinthian Room \nOpen to all abilities \nContact Maggie on 07812656070 for more information and to book your space \n 
URL:https://rtyc.org/event/stretch-class/2024-06-11/
CATEGORIES:Social
END:VEVENT
BEGIN:VEVENT
DTSTART;TZID=Europe/London:20240613T090000
DTEND;TZID=Europe/London:20240613T094500
DTSTAMP:20260423T090540
CREATED:20240328T120521Z
LAST-MODIFIED:20240402T100249Z
UID:10012246-1718269200-1718271900@rtyc.org
SUMMARY:Stretch\, Core Strength & Yoga Class
DESCRIPTION:Thursday at 9am in the Billiard Room \nSuitable for those more able. \nContact Maggie on 07812656070 for more information and to book your space
URL:https://rtyc.org/event/stretch-core-strength-yoga-class/2024-06-13/
CATEGORIES:Social
END:VEVENT
BEGIN:VEVENT
DTSTART;TZID=Europe/London:20240614T180000
DTEND;TZID=Europe/London:20240614T190000
DTSTAMP:20260423T090540
CREATED:20240111T112943Z
LAST-MODIFIED:20240119T123728Z
UID:10011974-1718388000-1718391600@rtyc.org
SUMMARY:Happy Hour
DESCRIPTION:
URL:https://rtyc.org/event/happy-hour/2024-06-14/
CATEGORIES:Social
ATTACH;FMTTYPE=image/jpeg:https://rtyc.org/wp-content/uploads/2024/01/happy-hour-169.jpg
END:VEVENT
BEGIN:VEVENT
DTSTART;TZID=Europe/London:20240618T181500
DTEND;TZID=Europe/London:20240618T191500
DTSTAMP:20260423T090540
CREATED:20240328T123532Z
LAST-MODIFIED:20240709T074123Z
UID:10012279-1718734500-1718738100@rtyc.org
SUMMARY:Stretch Class
DESCRIPTION:Tuesday at 6:15pm in the Corinthian Room \nOpen to all abilities \nContact Maggie on 07812656070 for more information and to book your space \n 
URL:https://rtyc.org/event/stretch-class/2024-06-18/
CATEGORIES:Social
END:VEVENT
BEGIN:VEVENT
DTSTART;TZID=Europe/London:20240620T090000
DTEND;TZID=Europe/London:20240620T094500
DTSTAMP:20260423T090540
CREATED:20240328T120521Z
LAST-MODIFIED:20240402T100249Z
UID:10012247-1718874000-1718876700@rtyc.org
SUMMARY:Stretch\, Core Strength & Yoga Class
DESCRIPTION:Thursday at 9am in the Billiard Room \nSuitable for those more able. \nContact Maggie on 07812656070 for more information and to book your space
URL:https://rtyc.org/event/stretch-core-strength-yoga-class/2024-06-20/
CATEGORIES:Social
END:VEVENT
BEGIN:VEVENT
DTSTART;TZID=Europe/London:20240621T180000
DTEND;TZID=Europe/London:20240621T190000
DTSTAMP:20260423T090540
CREATED:20240111T112943Z
LAST-MODIFIED:20240119T123728Z
UID:10011975-1718992800-1718996400@rtyc.org
SUMMARY:Happy Hour
DESCRIPTION:
URL:https://rtyc.org/event/happy-hour/2024-06-21/
CATEGORIES:Social
ATTACH;FMTTYPE=image/jpeg:https://rtyc.org/wp-content/uploads/2024/01/happy-hour-169.jpg
END:VEVENT
BEGIN:VEVENT
DTSTART;TZID=Europe/London:20240625T181500
DTEND;TZID=Europe/London:20240625T191500
DTSTAMP:20260423T090540
CREATED:20240328T123532Z
LAST-MODIFIED:20240709T074123Z
UID:10012280-1719339300-1719342900@rtyc.org
SUMMARY:Stretch Class
DESCRIPTION:Tuesday at 6:15pm in the Corinthian Room \nOpen to all abilities \nContact Maggie on 07812656070 for more information and to book your space \n 
URL:https://rtyc.org/event/stretch-class/2024-06-25/
CATEGORIES:Social
END:VEVENT
BEGIN:VEVENT
DTSTART;TZID=Europe/London:20240627T090000
DTEND;TZID=Europe/London:20240627T094500
DTSTAMP:20260423T090540
CREATED:20240328T120521Z
LAST-MODIFIED:20240402T100249Z
UID:10012248-1719478800-1719481500@rtyc.org
SUMMARY:Stretch\, Core Strength & Yoga Class
DESCRIPTION:Thursday at 9am in the Billiard Room \nSuitable for those more able. \nContact Maggie on 07812656070 for more information and to book your space
URL:https://rtyc.org/event/stretch-core-strength-yoga-class/2024-06-27/
CATEGORIES:Social
END:VEVENT
BEGIN:VEVENT
DTSTART;TZID=Europe/London:20240628T180000
DTEND;TZID=Europe/London:20240628T200000
DTSTAMP:20260423T090540
CREATED:20240111T113245Z
LAST-MODIFIED:20240119T124110Z
UID:10012002-1719597600-1719604800@rtyc.org
SUMMARY:Club Night
DESCRIPTION:
URL:https://rtyc.org/event/club-night/2024-06-28/
CATEGORIES:Social
ATTACH;FMTTYPE=image/jpeg:https://rtyc.org/wp-content/uploads/2024/01/Club-Night-169-.jpg
END:VEVENT
BEGIN:VEVENT
DTSTART;TZID=Europe/London:20240702T181500
DTEND;TZID=Europe/London:20240702T191500
DTSTAMP:20260423T090540
CREATED:20240328T123532Z
LAST-MODIFIED:20240709T074123Z
UID:10012281-1719944100-1719947700@rtyc.org
SUMMARY:Stretch Class
DESCRIPTION:Tuesday at 6:15pm in the Corinthian Room \nOpen to all abilities \nContact Maggie on 07812656070 for more information and to book your space \n 
URL:https://rtyc.org/event/stretch-class/2024-07-02/
CATEGORIES:Social
END:VEVENT
BEGIN:VEVENT
DTSTART;TZID=Europe/London:20240703T200000
DTEND;TZID=Europe/London:20240703T220000
DTSTAMP:20260423T090540
CREATED:20240326T131507Z
LAST-MODIFIED:20240528T111341Z
UID:10012310-1720036800-1720044000@rtyc.org
SUMMARY:Monthly Quiz Night
DESCRIPTION:
URL:https://rtyc.org/event/monthly-quiz/2024-07-03/
CATEGORIES:Social
END:VEVENT
BEGIN:VEVENT
DTSTART;TZID=Europe/London:20240704T090000
DTEND;TZID=Europe/London:20240704T094500
DTSTAMP:20260423T090540
CREATED:20240328T120521Z
LAST-MODIFIED:20240402T100249Z
UID:10012249-1720083600-1720086300@rtyc.org
SUMMARY:Stretch\, Core Strength & Yoga Class
DESCRIPTION:Thursday at 9am in the Billiard Room \nSuitable for those more able. \nContact Maggie on 07812656070 for more information and to book your space
URL:https://rtyc.org/event/stretch-core-strength-yoga-class/2024-07-04/
CATEGORIES:Social
END:VEVENT
BEGIN:VEVENT
DTSTART;TZID=Europe/London:20240705T180000
DTEND;TZID=Europe/London:20240705T190000
DTSTAMP:20260423T090540
CREATED:20240111T112943Z
LAST-MODIFIED:20240119T123728Z
UID:10011976-1720202400-1720206000@rtyc.org
SUMMARY:Happy Hour
DESCRIPTION:
URL:https://rtyc.org/event/happy-hour/2024-07-05/
CATEGORIES:Social
ATTACH;FMTTYPE=image/jpeg:https://rtyc.org/wp-content/uploads/2024/01/happy-hour-169.jpg
END:VEVENT
BEGIN:VEVENT
DTSTART;TZID=Europe/London:20240705T190000
DTEND;TZID=Europe/London:20240705T230000
DTSTAMP:20260423T090540
CREATED:20240625T091204Z
LAST-MODIFIED:20240705T103013Z
UID:10012324-1720206000-1720220400@rtyc.org
SUMMARY:Jazz Night by Liquid Spirit
DESCRIPTION:If you would like to dine with us\, it would be helpful to know numbers. Please email admin@rtyc.org 
URL:https://rtyc.org/event/jazz-night-by-liquid-spirit/
CATEGORIES:Social
END:VEVENT
BEGIN:VEVENT
DTSTART;TZID=Europe/London:20240706T190000
DTEND;TZID=Europe/London:20240706T230000
DTSTAMP:20260423T090540
CREATED:20240326T085248Z
LAST-MODIFIED:20240614T173609Z
UID:10012189-1720292400-1720306800@rtyc.org
SUMMARY:Turkish Night
DESCRIPTION:Book your tickets via Smart Club Cloud. Either on your App or via the link below \n			\n				Click here to book tickets\n			\n				Non-Members Click here for tickets
URL:https://rtyc.org/event/turkish-night/
CATEGORIES:Social
END:VEVENT
BEGIN:VEVENT
DTSTART;TZID=Europe/London:20240709T181500
DTEND;TZID=Europe/London:20240709T191500
DTSTAMP:20260423T090540
CREATED:20240328T123532Z
LAST-MODIFIED:20240709T074123Z
UID:10012282-1720548900-1720552500@rtyc.org
SUMMARY:Stretch Class
DESCRIPTION:Tuesday at 6:15pm in the Corinthian Room \nOpen to all abilities \nContact Maggie on 07812656070 for more information and to book your space \n 
URL:https://rtyc.org/event/stretch-class/2024-07-09/
CATEGORIES:Social
END:VEVENT
BEGIN:VEVENT
DTSTART;TZID=Europe/London:20240711T090000
DTEND;TZID=Europe/London:20240711T094500
DTSTAMP:20260423T090540
CREATED:20240328T120521Z
LAST-MODIFIED:20240402T100249Z
UID:10012250-1720688400-1720691100@rtyc.org
SUMMARY:Stretch\, Core Strength & Yoga Class
DESCRIPTION:Thursday at 9am in the Billiard Room \nSuitable for those more able. \nContact Maggie on 07812656070 for more information and to book your space
URL:https://rtyc.org/event/stretch-core-strength-yoga-class/2024-07-11/
CATEGORIES:Social
END:VEVENT
BEGIN:VEVENT
DTSTART;TZID=Europe/London:20240712T180000
DTEND;TZID=Europe/London:20240712T190000
DTSTAMP:20260423T090540
CREATED:20240111T112943Z
LAST-MODIFIED:20240119T123728Z
UID:10011977-1720807200-1720810800@rtyc.org
SUMMARY:Happy Hour
DESCRIPTION:
URL:https://rtyc.org/event/happy-hour/2024-07-12/
CATEGORIES:Social
ATTACH;FMTTYPE=image/jpeg:https://rtyc.org/wp-content/uploads/2024/01/happy-hour-169.jpg
END:VEVENT
BEGIN:VEVENT
DTSTART;TZID=Europe/London:20240718T090000
DTEND;TZID=Europe/London:20240718T094500
DTSTAMP:20260423T090540
CREATED:20240328T120521Z
LAST-MODIFIED:20240402T100249Z
UID:10012251-1721293200-1721295900@rtyc.org
SUMMARY:Stretch\, Core Strength & Yoga Class
DESCRIPTION:Thursday at 9am in the Billiard Room \nSuitable for those more able. \nContact Maggie on 07812656070 for more information and to book your space
URL:https://rtyc.org/event/stretch-core-strength-yoga-class/2024-07-18/
CATEGORIES:Social
END:VEVENT
BEGIN:VEVENT
DTSTART;TZID=Europe/London:20240719T180000
DTEND;TZID=Europe/London:20240719T190000
DTSTAMP:20260423T090540
CREATED:20240111T112943Z
LAST-MODIFIED:20240119T123728Z
UID:10011978-1721412000-1721415600@rtyc.org
SUMMARY:Happy Hour
DESCRIPTION:
URL:https://rtyc.org/event/happy-hour/2024-07-19/
CATEGORIES:Social
ATTACH;FMTTYPE=image/jpeg:https://rtyc.org/wp-content/uploads/2024/01/happy-hour-169.jpg
END:VEVENT
BEGIN:VEVENT
DTSTART;TZID=Europe/London:20240726T180000
DTEND;TZID=Europe/London:20240726T200000
DTSTAMP:20260423T090540
CREATED:20240111T113245Z
LAST-MODIFIED:20240119T124110Z
UID:10012003-1722016800-1722024000@rtyc.org
SUMMARY:Club Night
DESCRIPTION:
URL:https://rtyc.org/event/club-night/2024-07-26/
CATEGORIES:Social
ATTACH;FMTTYPE=image/jpeg:https://rtyc.org/wp-content/uploads/2024/01/Club-Night-169-.jpg
END:VEVENT
BEGIN:VEVENT
DTSTART;TZID=Europe/London:20240727T170000
DTEND;TZID=Europe/London:20240727T233000
DTSTAMP:20260423T090540
CREATED:20240613T103522Z
LAST-MODIFIED:20240724T201635Z
UID:10012320-1722099600-1722123000@rtyc.org
SUMMARY:Summer Party 2024
DESCRIPTION:Book your tickets via Smart Club Cloud. Either on your App or via the link below \n			\n				Click here to book tickets\n			\n				Non-Members Click here for tickets
URL:https://rtyc.org/event/summer-party-2024/
CATEGORIES:Dinghy Regatta,Social
ATTACH;FMTTYPE=image/png:https://rtyc.org/wp-content/uploads/2024/07/Summer-Party-featured-image-1200-x-628-px-2.png
END:VEVENT
BEGIN:VEVENT
DTSTART;TZID=Europe/London:20240802T180000
DTEND;TZID=Europe/London:20240802T190000
DTSTAMP:20260423T090540
CREATED:20240111T112943Z
LAST-MODIFIED:20240119T123728Z
UID:10011979-1722621600-1722625200@rtyc.org
SUMMARY:Happy Hour
DESCRIPTION:
URL:https://rtyc.org/event/happy-hour/2024-08-02/
CATEGORIES:Social
ATTACH;FMTTYPE=image/jpeg:https://rtyc.org/wp-content/uploads/2024/01/happy-hour-169.jpg
END:VEVENT
BEGIN:VEVENT
DTSTART;TZID=Europe/London:20240809T180000
DTEND;TZID=Europe/London:20240809T190000
DTSTAMP:20260423T090540
CREATED:20240111T112943Z
LAST-MODIFIED:20240119T123728Z
UID:10011980-1723226400-1723230000@rtyc.org
SUMMARY:Happy Hour
DESCRIPTION:
URL:https://rtyc.org/event/happy-hour/2024-08-09/
CATEGORIES:Social
ATTACH;FMTTYPE=image/jpeg:https://rtyc.org/wp-content/uploads/2024/01/happy-hour-169.jpg
END:VEVENT
END:VCALENDAR