BEGIN:VCALENDAR
VERSION:2.0
PRODID:-//Royal Torbay Yacht Club - ECPv6.2.9//NONSGML v1.0//EN
CALSCALE:GREGORIAN
METHOD:PUBLISH
X-ORIGINAL-URL:https://rtyc.org
X-WR-CALDESC:Events for Royal Torbay Yacht Club
REFRESH-INTERVAL;VALUE=DURATION:PT1H
X-Robots-Tag:noindex
X-PUBLISHED-TTL:PT1H
BEGIN:VTIMEZONE
TZID:Europe/London
BEGIN:DAYLIGHT
TZOFFSETFROM:+0000
TZOFFSETTO:+0100
TZNAME:BST
DTSTART:20260329T010000
END:DAYLIGHT
BEGIN:STANDARD
TZOFFSETFROM:+0100
TZOFFSETTO:+0000
TZNAME:GMT
DTSTART:20261025T010000
END:STANDARD
END:VTIMEZONE
BEGIN:VEVENT
DTSTART;TZID=Europe/London:20260305T193000
DTEND;TZID=Europe/London:20260305T213000
DTSTAMP:20260422T234841
CREATED:20260126T123738Z
LAST-MODIFIED:20260219T122703Z
UID:10012954-1772739000-1772746200@rtyc.org
SUMMARY:Evening Talk with Nick Powe
DESCRIPTION:
URL:https://rtyc.org/event/evening-talk-with-nick-powe/
CATEGORIES:Social
ATTACH;FMTTYPE=image/png:https://rtyc.org/wp-content/uploads/2026/02/evening-talk-5th-march-Nick-Powe-featured-image-1200-x-628-px-3.png
END:VEVENT
BEGIN:VEVENT
DTSTART;TZID=Europe/London:20260306T200000
DTEND;TZID=Europe/London:20260306T220000
DTSTAMP:20260422T234841
CREATED:20260202T090342Z
LAST-MODIFIED:20260202T090949Z
UID:10012964-1772827200-1772834400@rtyc.org
SUMMARY:Six Nations matches
DESCRIPTION:
URL:https://rtyc.org/event/six-nations-matches/2026-03-06/
CATEGORIES:Social
ATTACH;FMTTYPE=image/png:https://rtyc.org/wp-content/uploads/2026/02/1.png
END:VEVENT
BEGIN:VEVENT
DTSTART;TZID=Europe/London:20260307T183000
DTEND;TZID=Europe/London:20260307T233000
DTSTAMP:20260422T234841
CREATED:20260105T121119Z
LAST-MODIFIED:20260123T084727Z
UID:10012929-1772908200-1772926200@rtyc.org
SUMMARY:Elton John Tribute
DESCRIPTION:Book your tickets via Smart Club Cloud. Either on your App or via the link below \n			\n			\n				\n				\n				\n				\n			\n				\n				\n				\n				\n				\n				\n				Click here to book tickets\n			\n			\n				\n				\n				\n				\n				\n				Non-Members Click here for tickets
URL:https://rtyc.org/event/elton-john-tribute/
CATEGORIES:Social
ATTACH;FMTTYPE=image/png:https://rtyc.org/wp-content/uploads/2026/01/Elton-John-7th-March-featured-image-1200-x-628-px-1.png
END:VEVENT
BEGIN:VEVENT
DTSTART;TZID=Europe/London:20260314T140000
DTEND;TZID=Europe/London:20260314T220000
DTSTAMP:20260422T234842
CREATED:20260202T090342Z
LAST-MODIFIED:20260202T090949Z
UID:10012965-1773496800-1773525600@rtyc.org
SUMMARY:Six Nations matches
DESCRIPTION:
URL:https://rtyc.org/event/six-nations-matches/2026-03-14/
CATEGORIES:Social
ATTACH;FMTTYPE=image/png:https://rtyc.org/wp-content/uploads/2026/02/1.png
END:VEVENT
BEGIN:VEVENT
DTSTART;TZID=Europe/London:20260320T190000
DTEND;TZID=Europe/London:20260320T230000
DTSTAMP:20260422T234842
CREATED:20260105T121149Z
LAST-MODIFIED:20260206T105853Z
UID:10012930-1774033200-1774047600@rtyc.org
SUMMARY:Ladies Dinner 2026
DESCRIPTION:Book your tickets via Smart Club Cloud. Either on your App or via the link below \n			\n			\n				\n				\n				\n				\n			\n				\n				\n				\n				\n				\n				\n				Click here to book tickets\n			\n			\n				\n				\n				\n				\n				\n				Non-Members Click here for tickets
URL:https://rtyc.org/event/ladies-dinner-2026/
CATEGORIES:Social
ATTACH;FMTTYPE=image/png:https://rtyc.org/wp-content/uploads/2026/02/1-2.png
END:VEVENT
BEGIN:VEVENT
DTSTART;TZID=Europe/London:20260321T190000
DTEND;TZID=Europe/London:20260321T230000
DTSTAMP:20260422T234842
CREATED:20260105T121214Z
LAST-MODIFIED:20260206T105900Z
UID:10012931-1774119600-1774134000@rtyc.org
SUMMARY:Men's Dinner 2026
DESCRIPTION:Book your tickets via Smart Club Cloud. Either on your App or via the link below \n			\n			\n				\n				\n				\n				\n			\n				\n				\n				\n				\n				\n				\n				Click here to book tickets\n			\n			\n				\n				\n				\n				\n				\n				Non-Members Click here for tickets
URL:https://rtyc.org/event/mens-dinner-2026/
CATEGORIES:Social
ATTACH;FMTTYPE=image/png:https://rtyc.org/wp-content/uploads/2026/02/2-2.png
END:VEVENT
END:VCALENDAR