BEGIN:VCALENDAR
VERSION:2.0
PRODID:-//Royal Torbay Yacht Club - ECPv6.2.9//NONSGML v1.0//EN
CALSCALE:GREGORIAN
METHOD:PUBLISH
X-WR-CALNAME:Royal Torbay Yacht Club
X-ORIGINAL-URL:https://rtyc.org
X-WR-CALDESC:Events for Royal Torbay Yacht Club
REFRESH-INTERVAL;VALUE=DURATION:PT1H
X-Robots-Tag:noindex
X-PUBLISHED-TTL:PT1H
BEGIN:VTIMEZONE
TZID:Europe/London
BEGIN:DAYLIGHT
TZOFFSETFROM:+0000
TZOFFSETTO:+0100
TZNAME:BST
DTSTART:20260329T010000
END:DAYLIGHT
BEGIN:STANDARD
TZOFFSETFROM:+0100
TZOFFSETTO:+0000
TZNAME:GMT
DTSTART:20261025T010000
END:STANDARD
END:VTIMEZONE
BEGIN:VEVENT
DTSTART;TZID=Europe/London:20260504T080000
DTEND;TZID=Europe/London:20260504T170000
DTSTAMP:20260420T144547
CREATED:20260113T102405Z
LAST-MODIFIED:20260115T085855Z
UID:10012935-1777881600-1777914000@rtyc.org
SUMMARY:Bill's Goblet 2026
DESCRIPTION:Official Noticeboard\n			\n			\n				\n				\n				\n				\n			\n				\n				\n				\n				\n				\n				\n				\n				\n				\n				\n				\n\n\nRace Documents\nEntries & Results\nDocuments & Information\n\n\n Club Notice of Race\nEntry List\nParent Declaration Form\n\n\nRace Supplemental Sailing Instructions\n\n\n\n\nClub Standard Sailing Instructions\nResults\n\n\n\nStart Times\n\n\n\n\n\n\n\n\n\n\n  \n\n\n\nProtest Time Limit: (Day/Fleet)\nProtest Time Begins:\nProtest Time Ends:\n\n\n\n\n\n\n\n\n			\n			\n				\n				\n				\n				\n			\n				\n				\n				\n				\n				\n				\n				\n				\n				\n				\n				\n			\n			\n				\n				\n				\n				\n				\n				Enter Bill's Goblet Race\n			\n			\n				\n				\n				\n				\n			\n				\n				\n				\n				\n				\n				\n				\n				\n				\n				\n				\n			\n				\n				\n				\n				\n				Useful Information\n \nGetting to Royal Torbay Yacht Club \nCar Parking in Torquay \nTorquay Harbour \nWeather and Tides \nLocal Services \nHow to Win in Torbay \nClub Bar \nClub Restaurant \nContact Royal Torbay Yacht Club \nRacing Rules Website  \n \n\n			\n			\n				\n				\n				\n				\n				\n				\n				\n				\n				\n				Accommodation\nEnglish Riviera Accommodation Search \nImperial Hotel \nHampton by Hilton - Torquay \nChesterfield Guest House  - use the code RTYC15 to receive 15% off  \nEnglish Riviera Camping Site Search \nTreacle Valley Campsite \nCampsites Near Torquay Search \nCampsites.co.uk - Torquay
URL:https://rtyc.org/event/bills-goblet-2026/
CATEGORIES:Sailing
END:VEVENT
END:VCALENDAR