BEGIN:VCALENDAR
VERSION:2.0
PRODID:-//Royal Torbay Yacht Club - ECPv6.2.9//NONSGML v1.0//EN
CALSCALE:GREGORIAN
METHOD:PUBLISH
X-WR-CALNAME:Royal Torbay Yacht Club
X-ORIGINAL-URL:https://rtyc.org
X-WR-CALDESC:Events for Royal Torbay Yacht Club
REFRESH-INTERVAL;VALUE=DURATION:PT1H
X-Robots-Tag:noindex
X-PUBLISHED-TTL:PT1H
BEGIN:VTIMEZONE
TZID:Europe/London
BEGIN:DAYLIGHT
TZOFFSETFROM:+0000
TZOFFSETTO:+0100
TZNAME:BST
DTSTART:20260329T010000
END:DAYLIGHT
BEGIN:STANDARD
TZOFFSETFROM:+0100
TZOFFSETTO:+0000
TZNAME:GMT
DTSTART:20261025T010000
END:STANDARD
END:VTIMEZONE
BEGIN:VEVENT
DTSTART;TZID=Europe/London:20261001T193000
DTEND;TZID=Europe/London:20261001T213000
DTSTAMP:20260420T234633
CREATED:20260420T074659Z
LAST-MODIFIED:20260420T075018Z
UID:10013121-1790883000-1790890200@rtyc.org
SUMMARY:Hurricane force - Evening Talk
DESCRIPTION:“Hurricane Force” \nSpend an evening with guest speaker \nTom Cunliffe \non Thursday\, 1st October 2026\, 1930hrs \nat the \nRoyal Torbay Yacht Club \non behalf of the Cruising Association \n\nAn opportunity to hear about his new fictional book Hurricane Force inspired by real life experience. \n\nPrior registration to attend this event is strictly through the CA Website \nTicket price is £6 per person. \n\nTICKETS CLICK HERE \n\nFood at cost will be available before the talk from 6:00pm\, a menu will be available nearer the date
URL:https://rtyc.org/event/hurricane-force-evening-talk/
CATEGORIES:Cruising,Motorboats
ATTACH;FMTTYPE=image/png:https://rtyc.org/wp-content/uploads/2026/04/cruising-ass.png
END:VEVENT
END:VCALENDAR