BEGIN:VCALENDAR
VERSION:2.0
PRODID:-//Royal Torbay Yacht Club - ECPv6.2.9//NONSGML v1.0//EN
CALSCALE:GREGORIAN
METHOD:PUBLISH
X-ORIGINAL-URL:https://rtyc.org
X-WR-CALDESC:Events for Royal Torbay Yacht Club
REFRESH-INTERVAL;VALUE=DURATION:PT1H
X-Robots-Tag:noindex
X-PUBLISHED-TTL:PT1H
BEGIN:VTIMEZONE
TZID:Europe/London
BEGIN:DAYLIGHT
TZOFFSETFROM:+0000
TZOFFSETTO:+0100
TZNAME:BST
DTSTART:20250330T010000
END:DAYLIGHT
BEGIN:STANDARD
TZOFFSETFROM:+0100
TZOFFSETTO:+0000
TZNAME:GMT
DTSTART:20251026T010000
END:STANDARD
END:VTIMEZONE
BEGIN:VEVENT
DTSTART;TZID=Europe/London:20250510T080000
DTEND;TZID=Europe/London:20250510T170000
DTSTAMP:20260421T210704
CREATED:20250325T095337Z
LAST-MODIFIED:20250506T095515Z
UID:10012578-1746864000-1746896400@rtyc.org
SUMMARY:POSH - Paignton Sailing Club - Open for Single Handers
DESCRIPTION:For all events please click HERE \n  \nFor more information please visit the Paignton Sailing Website HERE
URL:https://rtyc.org/event/posh-paignton-sailing-club-open-for-single-handers/2025-05-10/
CATEGORIES:Club Racing,Juniors,PY Dinghy
END:VEVENT
END:VCALENDAR