BEGIN:VCALENDAR
VERSION:2.0
PRODID:-//Royal Torbay Yacht Club - ECPv6.2.9//NONSGML v1.0//EN
CALSCALE:GREGORIAN
METHOD:PUBLISH
X-ORIGINAL-URL:https://rtyc.org
X-WR-CALDESC:Events for Royal Torbay Yacht Club
REFRESH-INTERVAL;VALUE=DURATION:PT1H
X-Robots-Tag:noindex
X-PUBLISHED-TTL:PT1H
BEGIN:VTIMEZONE
TZID:Europe/London
BEGIN:DAYLIGHT
TZOFFSETFROM:+0000
TZOFFSETTO:+0100
TZNAME:BST
DTSTART:20250330T010000
END:DAYLIGHT
BEGIN:STANDARD
TZOFFSETFROM:+0100
TZOFFSETTO:+0000
TZNAME:GMT
DTSTART:20251026T010000
END:STANDARD
END:VTIMEZONE
BEGIN:VEVENT
DTSTART;TZID=Europe/London:20250507T080000
DTEND;TZID=Europe/London:20250507T170000
DTSTAMP:20260420T073433
CREATED:20250325T101157Z
LAST-MODIFIED:20250506T095718Z
UID:10012626-1746604800-1746637200@rtyc.org
SUMMARY:Wednesday Racing - IRC\, Cruiser\, Sportsboats\, SB20\, P& & Junior Dinghy - Spring Series
DESCRIPTION:For all events please click HERE
URL:https://rtyc.org/event/wednesday-racing-irc-cruiser-sportsboats-sb20-p-junior-dinghy-spring-series/2025-05-07/
CATEGORIES:Club Racing,Cruising,IRC,Juniors,PY Dinghy,Sportsboats
END:VEVENT
BEGIN:VEVENT
DTSTART;TZID=Europe/London:20250511T080000
DTEND;TZID=Europe/London:20250511T170000
DTSTAMP:20260420T073433
CREATED:20250325T090501Z
LAST-MODIFIED:20250506T095630Z
UID:10012508-1746950400-1746982800@rtyc.org
SUMMARY:Sunday Racing IRC & Cruiser Series - Spring & Summer Long Race Series (1 race per day)
DESCRIPTION:For all events please click HERE
URL:https://rtyc.org/event/sunday-racing-irc-cruiser-series-spring-summer-long-race-series/2025-05-11/
CATEGORIES:Club Racing,Cruising,IRC
END:VEVENT
BEGIN:VEVENT
DTSTART;TZID=Europe/London:20250514T080000
DTEND;TZID=Europe/London:20250514T170000
DTSTAMP:20260420T073433
CREATED:20250325T101157Z
LAST-MODIFIED:20250506T095718Z
UID:10012627-1747209600-1747242000@rtyc.org
SUMMARY:Wednesday Racing - IRC\, Cruiser\, Sportsboats\, SB20\, P& & Junior Dinghy - Spring Series
DESCRIPTION:For all events please click HERE
URL:https://rtyc.org/event/wednesday-racing-irc-cruiser-sportsboats-sb20-p-junior-dinghy-spring-series/2025-05-14/
CATEGORIES:Club Racing,Cruising,IRC,Juniors,PY Dinghy,Sportsboats
END:VEVENT
BEGIN:VEVENT
DTSTART;TZID=Europe/London:20250521T080000
DTEND;TZID=Europe/London:20250521T170000
DTSTAMP:20260420T073433
CREATED:20250325T101157Z
LAST-MODIFIED:20250506T095718Z
UID:10012628-1747814400-1747846800@rtyc.org
SUMMARY:Wednesday Racing - IRC\, Cruiser\, Sportsboats\, SB20\, P& & Junior Dinghy - Spring Series
DESCRIPTION:For all events please click HERE
URL:https://rtyc.org/event/wednesday-racing-irc-cruiser-sportsboats-sb20-p-junior-dinghy-spring-series/2025-05-21/
CATEGORIES:Club Racing,Cruising,IRC,Juniors,PY Dinghy,Sportsboats
END:VEVENT
BEGIN:VEVENT
DTSTART;TZID=Europe/London:20250525T080000
DTEND;TZID=Europe/London:20250525T170000
DTSTAMP:20260420T073433
CREATED:20250325T085823Z
LAST-MODIFIED:20250506T095619Z
UID:10012504-1748160000-1748192400@rtyc.org
SUMMARY:Sunday Racing IRC & Cruisers Series - Spring Short Race Series (up to 3 races per day)
DESCRIPTION:For all events please click HERE
URL:https://rtyc.org/event/sunday-racing-irc-cruisers-series/2025-05-25/
CATEGORIES:Club Racing,Cruising,IRC
END:VEVENT
BEGIN:VEVENT
DTSTART;TZID=Europe/London:20250528T080000
DTEND;TZID=Europe/London:20250528T170000
DTSTAMP:20260420T073433
CREATED:20250325T101259Z
LAST-MODIFIED:20250506T095352Z
UID:10012629-1748419200-1748451600@rtyc.org
SUMMARY:Wednesday Racing - IRC\, Cruiser\, Sportsboats\, SB20\, P& & Junior Dinghy - CREW RACE
DESCRIPTION:For all events please click HERE
URL:https://rtyc.org/event/wednesday-racing-irc-cruiser-sportsboats-sb20-p-junior-dinghy-crew-race/
CATEGORIES:Club Racing,Cruising,IRC,Juniors,PY Dinghy,Sportsboats
END:VEVENT
END:VCALENDAR