BEGIN:VCALENDAR
VERSION:2.0
PRODID:-//Royal Torbay Yacht Club - ECPv6.2.9//NONSGML v1.0//EN
CALSCALE:GREGORIAN
METHOD:PUBLISH
X-ORIGINAL-URL:https://rtyc.org
X-WR-CALDESC:Events for Royal Torbay Yacht Club
REFRESH-INTERVAL;VALUE=DURATION:PT1H
X-Robots-Tag:noindex
X-PUBLISHED-TTL:PT1H
BEGIN:VTIMEZONE
TZID:Europe/London
BEGIN:DAYLIGHT
TZOFFSETFROM:+0000
TZOFFSETTO:+0100
TZNAME:BST
DTSTART:20260329T010000
END:DAYLIGHT
BEGIN:STANDARD
TZOFFSETFROM:+0100
TZOFFSETTO:+0000
TZNAME:GMT
DTSTART:20261025T010000
END:STANDARD
END:VTIMEZONE
BEGIN:VEVENT
DTSTART;TZID=Europe/London:20260603T080000
DTEND;TZID=Europe/London:20260603T170000
DTSTAMP:20260423T232743
CREATED:20260209T093310Z
LAST-MODIFIED:20260209T093310Z
UID:10012975-1780473600-1780506000@rtyc.org
SUMMARY:Wednesday Racing - IRC\, Cruiser\, Sportsboat\, SB20\, PH & Junior Dinghy Class - Early Summer Series
DESCRIPTION:Visit the Club Racing webpage for full details HERE
URL:https://rtyc.org/event/wednesday-racing-irc-cruiser-sportsboat-sb20-ph-junior-dinghy-class-early-summer-series/2026-06-03/
CATEGORIES:Club Racing
END:VEVENT
BEGIN:VEVENT
DTSTART;TZID=Europe/London:20260606T080000
DTEND;TZID=Europe/London:20260606T170000
DTSTAMP:20260423T232743
CREATED:20260209T101257Z
LAST-MODIFIED:20260209T102137Z
UID:10013076-1780732800-1780765200@rtyc.org
SUMMARY:Coastal Series: Dartmouth - Yealm (RDYC) TADCCS 3
DESCRIPTION:Visit the Club Racing webpage for full details HERE
URL:https://rtyc.org/event/coastal-series-dartmouth-yealm-rdyc-tadccs-3/
CATEGORIES:Club Racing
END:VEVENT
BEGIN:VEVENT
DTSTART;TZID=Europe/London:20260607T080000
DTEND;TZID=Europe/London:20260607T170000
DTSTAMP:20260423T232743
CREATED:20260209T094715Z
LAST-MODIFIED:20260209T094715Z
UID:10013022-1780819200-1780851600@rtyc.org
SUMMARY:Sunday Racing Sportsboats - Summer Series
DESCRIPTION:Visit the Club Racing webpage for full details HERE
URL:https://rtyc.org/event/sunday-racing-sportsboats-summer-series/2026-06-07/
CATEGORIES:Club Racing
END:VEVENT
BEGIN:VEVENT
DTSTART;TZID=Europe/London:20260607T080000
DTEND;TZID=Europe/London:20260607T170000
DTSTAMP:20260423T232743
CREATED:20260209T095813Z
LAST-MODIFIED:20260209T095813Z
UID:10013052-1780819200-1780851600@rtyc.org
SUMMARY:Sunday Racing for PY dinghies & Juniors (inc Squadron 13) - Summer Series
DESCRIPTION:Visit the Club Racing webpage for full details HERE
URL:https://rtyc.org/event/sunday-racing-for-py-dinghies-juniors-inc-squadron-13-summer-series/2026-06-07/
CATEGORIES:Club Racing,Squadron 13 Racing
END:VEVENT
BEGIN:VEVENT
DTSTART;TZID=Europe/London:20260607T080000
DTEND;TZID=Europe/London:20260607T170000
DTSTAMP:20260423T232743
CREATED:20260209T101832Z
LAST-MODIFIED:20260209T102116Z
UID:10013077-1780819200-1780851600@rtyc.org
SUMMARY:Coastal Series: Yealm - Dartmouth (RDYC)
DESCRIPTION:Visit the Club Racing webpage for full details HERE
URL:https://rtyc.org/event/coastal-series-yealm-dartmouth-rdyc-2/
CATEGORIES:Club Racing
END:VEVENT
BEGIN:VEVENT
DTSTART;TZID=Europe/London:20260610T080000
DTEND;TZID=Europe/London:20260610T170000
DTSTAMP:20260423T232743
CREATED:20260209T093310Z
LAST-MODIFIED:20260209T093310Z
UID:10012976-1781078400-1781110800@rtyc.org
SUMMARY:Wednesday Racing - IRC\, Cruiser\, Sportsboat\, SB20\, PH & Junior Dinghy Class - Early Summer Series
DESCRIPTION:Visit the Club Racing webpage for full details HERE
URL:https://rtyc.org/event/wednesday-racing-irc-cruiser-sportsboat-sb20-ph-junior-dinghy-class-early-summer-series/2026-06-10/
CATEGORIES:Club Racing
END:VEVENT
BEGIN:VEVENT
DTSTART;TZID=Europe/London:20260614T080000
DTEND;TZID=Europe/London:20260614T170000
DTSTAMP:20260423T232743
CREATED:20260209T094715Z
LAST-MODIFIED:20260209T094715Z
UID:10013023-1781424000-1781456400@rtyc.org
SUMMARY:Sunday Racing Sportsboats - Summer Series
DESCRIPTION:Visit the Club Racing webpage for full details HERE
URL:https://rtyc.org/event/sunday-racing-sportsboats-summer-series/2026-06-14/
CATEGORIES:Club Racing
END:VEVENT
BEGIN:VEVENT
DTSTART;TZID=Europe/London:20260614T080000
DTEND;TZID=Europe/London:20260614T170000
DTSTAMP:20260423T232743
CREATED:20260209T095813Z
LAST-MODIFIED:20260209T095813Z
UID:10013053-1781424000-1781456400@rtyc.org
SUMMARY:Sunday Racing for PY dinghies & Juniors (inc Squadron 13) - Summer Series
DESCRIPTION:Visit the Club Racing webpage for full details HERE
URL:https://rtyc.org/event/sunday-racing-for-py-dinghies-juniors-inc-squadron-13-summer-series/2026-06-14/
CATEGORIES:Club Racing,Squadron 13 Racing
END:VEVENT
BEGIN:VEVENT
DTSTART;TZID=Europe/London:20260614T110000
DTEND;TZID=Europe/London:20260614T170000
DTSTAMP:20260423T232743
CREATED:20260209T094003Z
LAST-MODIFIED:20260209T094003Z
UID:10012996-1781434800-1781456400@rtyc.org
SUMMARY:Sunday Racing - IRC & Cruiser series - Summer Series
DESCRIPTION:Visit the Club Racing webpage for full details HERE
URL:https://rtyc.org/event/sunday-racing-irc-cruiser-series-summer-series/2026-06-14/
CATEGORIES:Club Racing
END:VEVENT
BEGIN:VEVENT
DTSTART;TZID=Europe/London:20260617T080000
DTEND;TZID=Europe/London:20260617T170000
DTSTAMP:20260423T232743
CREATED:20260209T093310Z
LAST-MODIFIED:20260209T093310Z
UID:10012977-1781683200-1781715600@rtyc.org
SUMMARY:Wednesday Racing - IRC\, Cruiser\, Sportsboat\, SB20\, PH & Junior Dinghy Class - Early Summer Series
DESCRIPTION:Visit the Club Racing webpage for full details HERE
URL:https://rtyc.org/event/wednesday-racing-irc-cruiser-sportsboat-sb20-ph-junior-dinghy-class-early-summer-series/2026-06-17/
CATEGORIES:Club Racing
END:VEVENT
BEGIN:VEVENT
DTSTART;TZID=Europe/London:20260621T080000
DTEND;TZID=Europe/London:20260621T170000
DTSTAMP:20260423T232743
CREATED:20260209T094715Z
LAST-MODIFIED:20260209T094715Z
UID:10013024-1782028800-1782061200@rtyc.org
SUMMARY:Sunday Racing Sportsboats - Summer Series
DESCRIPTION:Visit the Club Racing webpage for full details HERE
URL:https://rtyc.org/event/sunday-racing-sportsboats-summer-series/2026-06-21/
CATEGORIES:Club Racing
END:VEVENT
BEGIN:VEVENT
DTSTART;TZID=Europe/London:20260621T080000
DTEND;TZID=Europe/London:20260621T170000
DTSTAMP:20260423T232743
CREATED:20260209T095813Z
LAST-MODIFIED:20260209T095813Z
UID:10013054-1782028800-1782061200@rtyc.org
SUMMARY:Sunday Racing for PY dinghies & Juniors (inc Squadron 13) - Summer Series
DESCRIPTION:Visit the Club Racing webpage for full details HERE
URL:https://rtyc.org/event/sunday-racing-for-py-dinghies-juniors-inc-squadron-13-summer-series/2026-06-21/
CATEGORIES:Club Racing,Squadron 13 Racing
END:VEVENT
BEGIN:VEVENT
DTSTART;TZID=Europe/London:20260624T080000
DTEND;TZID=Europe/London:20260624T170000
DTSTAMP:20260423T232743
CREATED:20260209T093310Z
LAST-MODIFIED:20260209T093310Z
UID:10012978-1782288000-1782320400@rtyc.org
SUMMARY:Wednesday Racing - IRC\, Cruiser\, Sportsboat\, SB20\, PH & Junior Dinghy Class - Early Summer Series
DESCRIPTION:Visit the Club Racing webpage for full details HERE
URL:https://rtyc.org/event/wednesday-racing-irc-cruiser-sportsboat-sb20-ph-junior-dinghy-class-early-summer-series/2026-06-24/
CATEGORIES:Club Racing
END:VEVENT
BEGIN:VEVENT
DTSTART;TZID=Europe/London:20260628T080000
DTEND;TZID=Europe/London:20260628T170000
DTSTAMP:20260423T232743
CREATED:20260209T094715Z
LAST-MODIFIED:20260209T094715Z
UID:10013025-1782633600-1782666000@rtyc.org
SUMMARY:Sunday Racing Sportsboats - Summer Series
DESCRIPTION:Visit the Club Racing webpage for full details HERE
URL:https://rtyc.org/event/sunday-racing-sportsboats-summer-series/2026-06-28/
CATEGORIES:Club Racing
END:VEVENT
BEGIN:VEVENT
DTSTART;TZID=Europe/London:20260628T080000
DTEND;TZID=Europe/London:20260628T170000
DTSTAMP:20260423T232743
CREATED:20260209T095813Z
LAST-MODIFIED:20260209T095813Z
UID:10013055-1782633600-1782666000@rtyc.org
SUMMARY:Sunday Racing for PY dinghies & Juniors (inc Squadron 13) - Summer Series
DESCRIPTION:Visit the Club Racing webpage for full details HERE
URL:https://rtyc.org/event/sunday-racing-for-py-dinghies-juniors-inc-squadron-13-summer-series/2026-06-28/
CATEGORIES:Club Racing,Squadron 13 Racing
END:VEVENT
BEGIN:VEVENT
DTSTART;TZID=Europe/London:20260628T110000
DTEND;TZID=Europe/London:20260628T170000
DTSTAMP:20260423T232743
CREATED:20260209T094003Z
LAST-MODIFIED:20260209T094003Z
UID:10012997-1782644400-1782666000@rtyc.org
SUMMARY:Sunday Racing - IRC & Cruiser series - Summer Series
DESCRIPTION:Visit the Club Racing webpage for full details HERE
URL:https://rtyc.org/event/sunday-racing-irc-cruiser-series-summer-series/2026-06-28/
CATEGORIES:Club Racing
END:VEVENT
BEGIN:VEVENT
DTSTART;TZID=Europe/London:20260701T080000
DTEND;TZID=Europe/London:20260701T170000
DTSTAMP:20260423T232743
CREATED:20260209T093310Z
LAST-MODIFIED:20260209T093310Z
UID:10012979-1782892800-1782925200@rtyc.org
SUMMARY:Wednesday Racing - IRC\, Cruiser\, Sportsboat\, SB20\, PH & Junior Dinghy Class - Early Summer Series
DESCRIPTION:Visit the Club Racing webpage for full details HERE
URL:https://rtyc.org/event/wednesday-racing-irc-cruiser-sportsboat-sb20-ph-junior-dinghy-class-early-summer-series/2026-07-01/
CATEGORIES:Club Racing
END:VEVENT
BEGIN:VEVENT
DTSTART;TZID=Europe/London:20260704T080000
DTEND;TZID=Europe/London:20260704T170000
DTSTAMP:20260423T232743
CREATED:20260209T101942Z
LAST-MODIFIED:20260209T102105Z
UID:10013078-1783152000-1783184400@rtyc.org
SUMMARY:Coastal Series: Brixham - Salcombe (BYC)
DESCRIPTION:Visit the Club Racing webpage for full details HERE
URL:https://rtyc.org/event/coastal-series-brixham-salcombe-byc-2/
CATEGORIES:Club Racing
END:VEVENT
BEGIN:VEVENT
DTSTART;TZID=Europe/London:20260705T080000
DTEND;TZID=Europe/London:20260705T170000
DTSTAMP:20260423T232743
CREATED:20260209T094715Z
LAST-MODIFIED:20260209T094715Z
UID:10013026-1783238400-1783270800@rtyc.org
SUMMARY:Sunday Racing Sportsboats - Summer Series
DESCRIPTION:Visit the Club Racing webpage for full details HERE
URL:https://rtyc.org/event/sunday-racing-sportsboats-summer-series/2026-07-05/
CATEGORIES:Club Racing
END:VEVENT
BEGIN:VEVENT
DTSTART;TZID=Europe/London:20260705T080000
DTEND;TZID=Europe/London:20260705T170000
DTSTAMP:20260423T232743
CREATED:20260209T095813Z
LAST-MODIFIED:20260209T095813Z
UID:10013056-1783238400-1783270800@rtyc.org
SUMMARY:Sunday Racing for PY dinghies & Juniors (inc Squadron 13) - Summer Series
DESCRIPTION:Visit the Club Racing webpage for full details HERE
URL:https://rtyc.org/event/sunday-racing-for-py-dinghies-juniors-inc-squadron-13-summer-series/2026-07-05/
CATEGORIES:Club Racing,Squadron 13 Racing
END:VEVENT
BEGIN:VEVENT
DTSTART;TZID=Europe/London:20260705T080000
DTEND;TZID=Europe/London:20260705T170000
DTSTAMP:20260423T232743
CREATED:20260209T102034Z
LAST-MODIFIED:20260209T102052Z
UID:10013079-1783238400-1783270800@rtyc.org
SUMMARY:Coastal Series: Salcombe - Dartmouth (BYC) TADCCS 4
DESCRIPTION:Visit the Club Racing webpage for full details HERE
URL:https://rtyc.org/event/coastal-series-salcombe-dartmouth-byc-tadccs-4/
CATEGORIES:Club Racing
END:VEVENT
BEGIN:VEVENT
DTSTART;TZID=Europe/London:20260708T080000
DTEND;TZID=Europe/London:20260708T170000
DTSTAMP:20260423T232743
CREATED:20260209T093310Z
LAST-MODIFIED:20260209T093310Z
UID:10012980-1783497600-1783530000@rtyc.org
SUMMARY:Wednesday Racing - IRC\, Cruiser\, Sportsboat\, SB20\, PH & Junior Dinghy Class - Early Summer Series
DESCRIPTION:Visit the Club Racing webpage for full details HERE
URL:https://rtyc.org/event/wednesday-racing-irc-cruiser-sportsboat-sb20-ph-junior-dinghy-class-early-summer-series/2026-07-08/
CATEGORIES:Club Racing
END:VEVENT
BEGIN:VEVENT
DTSTART;TZID=Europe/London:20260715T080000
DTEND;TZID=Europe/London:20260715T170000
DTSTAMP:20260423T232743
CREATED:20260209T093310Z
LAST-MODIFIED:20260209T093310Z
UID:10012981-1784102400-1784134800@rtyc.org
SUMMARY:Wednesday Racing - IRC\, Cruiser\, Sportsboat\, SB20\, PH & Junior Dinghy Class - Early Summer Series
DESCRIPTION:Visit the Club Racing webpage for full details HERE
URL:https://rtyc.org/event/wednesday-racing-irc-cruiser-sportsboat-sb20-ph-junior-dinghy-class-early-summer-series/2026-07-15/
CATEGORIES:Club Racing
END:VEVENT
BEGIN:VEVENT
DTSTART;TZID=Europe/London:20260718T080000
DTEND;TZID=Europe/London:20260718T170000
DTSTAMP:20260423T232743
CREATED:20260209T102243Z
LAST-MODIFIED:20260209T102243Z
UID:10013080-1784361600-1784394000@rtyc.org
SUMMARY:Coastal Series: Torquay - Salcombe (RTYC)
DESCRIPTION:Visit the Club Racing webpage for full details HERE
URL:https://rtyc.org/event/coastal-series-torquay-salcombe-rtyc/
CATEGORIES:Club Racing
END:VEVENT
BEGIN:VEVENT
DTSTART;TZID=Europe/London:20260719T080000
DTEND;TZID=Europe/London:20260719T170000
DTSTAMP:20260423T232743
CREATED:20260209T094715Z
LAST-MODIFIED:20260209T094715Z
UID:10013027-1784448000-1784480400@rtyc.org
SUMMARY:Sunday Racing Sportsboats - Summer Series
DESCRIPTION:Visit the Club Racing webpage for full details HERE
URL:https://rtyc.org/event/sunday-racing-sportsboats-summer-series/2026-07-19/
CATEGORIES:Club Racing
END:VEVENT
BEGIN:VEVENT
DTSTART;TZID=Europe/London:20260719T080000
DTEND;TZID=Europe/London:20260719T170000
DTSTAMP:20260423T232743
CREATED:20260209T095813Z
LAST-MODIFIED:20260209T095813Z
UID:10013057-1784448000-1784480400@rtyc.org
SUMMARY:Sunday Racing for PY dinghies & Juniors (inc Squadron 13) - Summer Series
DESCRIPTION:Visit the Club Racing webpage for full details HERE
URL:https://rtyc.org/event/sunday-racing-for-py-dinghies-juniors-inc-squadron-13-summer-series/2026-07-19/
CATEGORIES:Club Racing,Squadron 13 Racing
END:VEVENT
BEGIN:VEVENT
DTSTART;TZID=Europe/London:20260719T080000
DTEND;TZID=Europe/London:20260719T170000
DTSTAMP:20260423T232743
CREATED:20260209T102331Z
LAST-MODIFIED:20260209T102331Z
UID:10013081-1784448000-1784480400@rtyc.org
SUMMARY:Coastal Series: Salcombe - Torquay (RTYC) TADCCS 5
DESCRIPTION:Visit the Club Racing webpage for full details HERE
URL:https://rtyc.org/event/coastal-series-salcombe-torquay-rtyc-tadccs-5/
CATEGORIES:Club Racing
END:VEVENT
BEGIN:VEVENT
DTSTART;TZID=Europe/London:20260722T080000
DTEND;TZID=Europe/London:20260722T170000
DTSTAMP:20260423T232743
CREATED:20260209T093310Z
LAST-MODIFIED:20260209T093310Z
UID:10012982-1784707200-1784739600@rtyc.org
SUMMARY:Wednesday Racing - IRC\, Cruiser\, Sportsboat\, SB20\, PH & Junior Dinghy Class - Early Summer Series
DESCRIPTION:Visit the Club Racing webpage for full details HERE
URL:https://rtyc.org/event/wednesday-racing-irc-cruiser-sportsboat-sb20-ph-junior-dinghy-class-early-summer-series/2026-07-22/
CATEGORIES:Club Racing
END:VEVENT
BEGIN:VEVENT
DTSTART;TZID=Europe/London:20260729T180000
DTEND;TZID=Europe/London:20260729T180000
DTSTAMP:20260423T232743
CREATED:20260209T093554Z
LAST-MODIFIED:20260209T093554Z
UID:10012989-1785348000-1785348000@rtyc.org
SUMMARY:Pursuit Races
DESCRIPTION:Visit the Club Racing webpage for full details HERE
URL:https://rtyc.org/event/pursuit-races/2026-07-29/
CATEGORIES:Club Racing
END:VEVENT
BEGIN:VEVENT
DTSTART;TZID=Europe/London:20260802T080000
DTEND;TZID=Europe/London:20260802T170000
DTSTAMP:20260423T232743
CREATED:20260209T094715Z
LAST-MODIFIED:20260209T094715Z
UID:10013028-1785657600-1785690000@rtyc.org
SUMMARY:Sunday Racing Sportsboats - Summer Series
DESCRIPTION:Visit the Club Racing webpage for full details HERE
URL:https://rtyc.org/event/sunday-racing-sportsboats-summer-series/2026-08-02/
CATEGORIES:Club Racing
END:VEVENT
END:VCALENDAR