BEGIN:VCALENDAR
VERSION:2.0
PRODID:-//Royal Torbay Yacht Club - ECPv6.2.9//NONSGML v1.0//EN
CALSCALE:GREGORIAN
METHOD:PUBLISH
X-WR-CALNAME:Royal Torbay Yacht Club
X-ORIGINAL-URL:https://rtyc.org
X-WR-CALDESC:Events for Royal Torbay Yacht Club
REFRESH-INTERVAL;VALUE=DURATION:PT1H
X-Robots-Tag:noindex
X-PUBLISHED-TTL:PT1H
BEGIN:VTIMEZONE
TZID:Europe/London
BEGIN:DAYLIGHT
TZOFFSETFROM:+0000
TZOFFSETTO:+0100
TZNAME:BST
DTSTART:20250330T010000
END:DAYLIGHT
BEGIN:STANDARD
TZOFFSETFROM:+0100
TZOFFSETTO:+0000
TZNAME:GMT
DTSTART:20251026T010000
END:STANDARD
END:VTIMEZONE
BEGIN:VEVENT
DTSTART;TZID=Europe/London:20250308T190000
DTEND;TZID=Europe/London:20250308T223000
DTSTAMP:20260422T031022
CREATED:20250113T092935Z
LAST-MODIFIED:20250127T085719Z
UID:10012496-1741460400-1741473000@rtyc.org
SUMMARY:Men's Dinner
DESCRIPTION:Book your tickets via Smart Club Cloud. Either on your App or via the link below \n			\n				Click here to book tickets
URL:https://rtyc.org/event/mens-dinner/
CATEGORIES:Social
ATTACH;FMTTYPE=image/png:https://rtyc.org/wp-content/uploads/2025/01/Mens-dinner-8th-march-2025-fetaured-image-1200-x-628-px.png
END:VEVENT
END:VCALENDAR