BEGIN:VCALENDAR
VERSION:2.0
PRODID:-//Royal Torbay Yacht Club - ECPv6.2.9//NONSGML v1.0//EN
CALSCALE:GREGORIAN
METHOD:PUBLISH
X-ORIGINAL-URL:https://rtyc.org
X-WR-CALDESC:Events for Royal Torbay Yacht Club
REFRESH-INTERVAL;VALUE=DURATION:PT1H
X-Robots-Tag:noindex
X-PUBLISHED-TTL:PT1H
BEGIN:VTIMEZONE
TZID:Europe/London
BEGIN:DAYLIGHT
TZOFFSETFROM:+0000
TZOFFSETTO:+0100
TZNAME:BST
DTSTART:20240331T010000
END:DAYLIGHT
BEGIN:STANDARD
TZOFFSETFROM:+0100
TZOFFSETTO:+0000
TZNAME:GMT
DTSTART:20241027T010000
END:STANDARD
END:VTIMEZONE
BEGIN:VEVENT
DTSTART;TZID=Europe/London:20240628T080000
DTEND;TZID=Europe/London:20240707T170000
DTSTAMP:20260424T121812
CREATED:20231010T075451Z
LAST-MODIFIED:20240625T121034Z
UID:10011817-1719561600-1720371600@rtyc.org
SUMMARY:Offshore week 2024
DESCRIPTION:  \nWhatsApp Group\nTo join the group\, please use the QR code below \n			\n				\n				\n				\n				\n				\n			\n			\n				\n				\n				\n				\n				\n				Apply for your IRC Certificate\n			\n				Apply for your RYA YTC Certificate\n			\n				World Sailing Keelboat Inspections\n			\n				Enter Here with Berthing\n			\n				Enter Here without Berthing\n			\n				Crew List Form\n			\n				\n				\n				\n				\n				OFFICAL NOTICEBOARD\n			\n				Notice of Race\n			\n				Sailing Instructions\n			\n				Briefing Document \n			\n				Entries with berthing\n			\n				Entries without berthing\n			\n				Results\n			\n			\n				\n				\n				\n				\n			\n				\n				\n				\n				\n				\n				\n				\n				\n				\n				\n				Menu below will be available on Thursday 27th June before the Offshore week briefing. Open to all. Please email your pre-orders to admin@rtyc.org 
URL:https://rtyc.org/event/offshore-week-2024/
LOCATION:Royal Torbay Yacht Club\, 12 Beacon Terrace\, Torquay\, TQ1 2BH\,\, United Kingdom
CATEGORIES:Sailing
GEO:50.458288;-3.5239884
X-APPLE-STRUCTURED-LOCATION;VALUE=URI;X-ADDRESS=Royal Torbay Yacht Club 12 Beacon Terrace Torquay TQ1 2BH United Kingdom;X-APPLE-RADIUS=500;X-TITLE=12 Beacon Terrace:geo:-3.5239884,50.458288
END:VEVENT
BEGIN:VEVENT
DTSTART;TZID=Europe/London:20240706T080000
DTEND;TZID=Europe/London:20240706T170000
DTSTAMP:20260424T121812
CREATED:20240112T095857Z
LAST-MODIFIED:20240115T130752Z
UID:10012063-1720252800-1720285200@rtyc.org
SUMMARY:Brixham - Salcombe Race (BYC)
DESCRIPTION:To see the full Club Racing Programme\, please click here
URL:https://rtyc.org/event/brixham-salcombe-race-byc/
CATEGORIES:RTYC Coastal Class Series,TDDCS
END:VEVENT
BEGIN:VEVENT
DTSTART;TZID=Europe/London:20240706T080000
DTEND;TZID=Europe/London:20240706T170000
DTSTAMP:20260424T121812
CREATED:20240115T093543Z
LAST-MODIFIED:20240115T130800Z
UID:10012112-1720252800-1720285200@rtyc.org
SUMMARY:Summer Saturday Series - PH Dinghy Handicap & Junior Class - 16 Races
DESCRIPTION:To see the full Club Racing Programme\, please click here
URL:https://rtyc.org/event/summer-saturday-series-ph-dinghy-handicap-junior-class-16-races/2024-07-06/
CATEGORIES:Club Racing,Juniors,PY Dinghy
END:VEVENT
BEGIN:VEVENT
DTSTART;TZID=Europe/London:20240706T190000
DTEND;TZID=Europe/London:20240706T230000
DTSTAMP:20260424T121812
CREATED:20240326T085248Z
LAST-MODIFIED:20240614T173609Z
UID:10012189-1720292400-1720306800@rtyc.org
SUMMARY:Turkish Night
DESCRIPTION:Book your tickets via Smart Club Cloud. Either on your App or via the link below \n			\n				Click here to book tickets\n			\n				Non-Members Click here for tickets
URL:https://rtyc.org/event/turkish-night/
CATEGORIES:Social
END:VEVENT
END:VCALENDAR